BEGIN:VCALENDAR
VERSION:2.0
PRODID:-//Croix Blanche Loire Atlantique - ECPv6.15.13//NONSGML v1.0//EN
CALSCALE:GREGORIAN
METHOD:PUBLISH
X-WR-CALNAME:Croix Blanche Loire Atlantique
X-ORIGINAL-URL:https://croixblanche44.org
X-WR-CALDESC:Évènements pour Croix Blanche Loire Atlantique
REFRESH-INTERVAL;VALUE=DURATION:PT1H
X-Robots-Tag:noindex
X-PUBLISHED-TTL:PT1H
BEGIN:VTIMEZONE
TZID:Europe/Paris
BEGIN:DAYLIGHT
TZOFFSETFROM:+0100
TZOFFSETTO:+0200
TZNAME:CEST
DTSTART:20240331T010000
END:DAYLIGHT
BEGIN:STANDARD
TZOFFSETFROM:+0200
TZOFFSETTO:+0100
TZNAME:CET
DTSTART:20241027T010000
END:STANDARD
BEGIN:DAYLIGHT
TZOFFSETFROM:+0100
TZOFFSETTO:+0200
TZNAME:CEST
DTSTART:20250330T010000
END:DAYLIGHT
BEGIN:STANDARD
TZOFFSETFROM:+0200
TZOFFSETTO:+0100
TZNAME:CET
DTSTART:20251026T010000
END:STANDARD
BEGIN:DAYLIGHT
TZOFFSETFROM:+0100
TZOFFSETTO:+0200
TZNAME:CEST
DTSTART:20260329T010000
END:DAYLIGHT
BEGIN:STANDARD
TZOFFSETFROM:+0200
TZOFFSETTO:+0100
TZNAME:CET
DTSTART:20261025T010000
END:STANDARD
END:VTIMEZONE
BEGIN:VEVENT
DTSTART;TZID=Europe/Paris:20251017T083000
DTEND;TZID=Europe/Paris:20251017T173000
DTSTAMP:20260425T033711
CREATED:20250927T083815Z
LAST-MODIFIED:20250927T091144Z
UID:3564-1760689800-1760722200@croixblanche44.org
SUMMARY:FC PAE-PS (Formation Continue formateur PSE)
DESCRIPTION:Séquence 1 : La ludopédagogie\nSéquence 2 : Les documents pédagogiques\nSéquence 3 : Animation des séquences
URL:https://croixblanche44.org/event/fc-pae-ps-formation-continue-formateur-pse/
LOCATION:Locaux du CD\, 15 Ter\, Boulevard Jean Moulin\, Nantes\, 44100\, France
CATEGORIES:Formateur,Formations,PSE
ATTACH;FMTTYPE=image/png:https://croixblanche44.org/wp-content/uploads/2025/09/file_0000000036c461fd8ca730dacf87843c.png
ORGANIZER;CN="Croix Blanche":MAILTO:contact@croixblanche44.org
END:VEVENT
END:VCALENDAR