BEGIN:VCALENDAR
VERSION:2.0
PRODID:-//Croix Blanche Loire Atlantique - ECPv6.15.13//NONSGML v1.0//EN
CALSCALE:GREGORIAN
METHOD:PUBLISH
X-WR-CALNAME:Croix Blanche Loire Atlantique
X-ORIGINAL-URL:https://croixblanche44.org
X-WR-CALDESC:Évènements pour Croix Blanche Loire Atlantique
REFRESH-INTERVAL;VALUE=DURATION:PT1H
X-Robots-Tag:noindex
X-PUBLISHED-TTL:PT1H
BEGIN:VTIMEZONE
TZID:Europe/Paris
BEGIN:DAYLIGHT
TZOFFSETFROM:+0100
TZOFFSETTO:+0200
TZNAME:CEST
DTSTART:20240331T010000
END:DAYLIGHT
BEGIN:STANDARD
TZOFFSETFROM:+0200
TZOFFSETTO:+0100
TZNAME:CET
DTSTART:20241027T010000
END:STANDARD
BEGIN:DAYLIGHT
TZOFFSETFROM:+0100
TZOFFSETTO:+0200
TZNAME:CEST
DTSTART:20250330T010000
END:DAYLIGHT
BEGIN:STANDARD
TZOFFSETFROM:+0200
TZOFFSETTO:+0100
TZNAME:CET
DTSTART:20251026T010000
END:STANDARD
BEGIN:DAYLIGHT
TZOFFSETFROM:+0100
TZOFFSETTO:+0200
TZNAME:CEST
DTSTART:20260329T010000
END:DAYLIGHT
BEGIN:STANDARD
TZOFFSETFROM:+0200
TZOFFSETTO:+0100
TZNAME:CET
DTSTART:20261025T010000
END:STANDARD
END:VTIMEZONE
BEGIN:VEVENT
DTSTART;TZID=Europe/Paris:20251206T083000
DTEND;TZID=Europe/Paris:20251207T173000
DTSTAMP:20260425T003229
CREATED:20220529T090301Z
LAST-MODIFIED:20250927T091153Z
UID:456-1765009800-1765128600@croixblanche44.org
SUMMARY:PIC For (Pédagogie Initiale Commune aux Formateurs)
DESCRIPTION:Séquence 1 : Animation d’une séquence de formation (exposé interactif)\nSéquence 2 : Animation de mises en situation
URL:https://croixblanche44.org/event/pic-psc1/
LOCATION:Locaux du CD\, 15 Ter\, Boulevard Jean Moulin\, Nantes\, 44100\, France
CATEGORIES:Formateur,Formations,PSC,PSE
ATTACH;FMTTYPE=image/png:https://croixblanche44.org/wp-content/uploads/2025/09/file_0000000036c461fd8ca730dacf87843c.png
ORGANIZER;CN="Croix Blanche":MAILTO:contact@croixblanche44.org
END:VEVENT
BEGIN:VEVENT
DTSTART;TZID=Europe/Paris:20251222T080000
DTEND;TZID=Europe/Paris:20251230T170000
DTSTAMP:20260425T003229
CREATED:20220415T160645Z
LAST-MODIFIED:20250602T135204Z
UID:177-1766390400-1767114000@croixblanche44.org
SUMMARY:PSE2
DESCRIPTION:Programme\nPrendre en charge une personne : \n\nPrésentant une affection ou une aggravation de sa maladie\nVictime d’une atteinte circonstancielle\nPrésentant une souffrance psychique ou un comportement inhabituel\n\nAssurer\, au sein d’une équipe : \n\nL’immobilisation\, totale ou partielle d’une personne victime d’un traumatisme du squelette\nLe relevage et le brancardage d’une victime en vue de son transport\n\nDe coordonner les actions de secours conduites au sein d’une équipe. \nIl doit être en mesure (acquis du PSE1) : \n\nD’évoluer dans le cadre juridique applicable à son action de secours et dans le respect des procédures définies par son autorité d’emploi\nD’assurer une protection immédiate\, adaptée et permanente\, pour lui-même\, la victime et les autres personnes des dangers environnants\nDe réaliser un bilan et d’assurer sa transmission aux services appropriés\nD’adapter son comportement à la situation ou à l’état de la victime
URL:https://croixblanche44.org/event/pse2/
LOCATION:Locaux du CD\, 15 Ter\, Boulevard Jean Moulin\, Nantes\, 44100\, France
CATEGORIES:Formations,PSE
ATTACH;FMTTYPE=image/jpeg:https://croixblanche44.org/wp-content/uploads/2022/04/c-PSE2.jpg
ORGANIZER;CN="Croix Blanche":MAILTO:contact@croixblanche44.org
END:VEVENT
END:VCALENDAR