BEGIN:VCALENDAR
VERSION:2.0
PRODID:-//Croix Blanche Loire Atlantique - ECPv6.15.13//NONSGML v1.0//EN
CALSCALE:GREGORIAN
METHOD:PUBLISH
X-ORIGINAL-URL:https://croixblanche44.org
X-WR-CALDESC:Évènements pour Croix Blanche Loire Atlantique
REFRESH-INTERVAL;VALUE=DURATION:PT1H
X-Robots-Tag:noindex
X-PUBLISHED-TTL:PT1H
BEGIN:VTIMEZONE
TZID:Europe/Paris
BEGIN:DAYLIGHT
TZOFFSETFROM:+0100
TZOFFSETTO:+0200
TZNAME:CEST
DTSTART:20250330T010000
END:DAYLIGHT
BEGIN:STANDARD
TZOFFSETFROM:+0200
TZOFFSETTO:+0100
TZNAME:CET
DTSTART:20251026T010000
END:STANDARD
BEGIN:DAYLIGHT
TZOFFSETFROM:+0100
TZOFFSETTO:+0200
TZNAME:CEST
DTSTART:20260329T010000
END:DAYLIGHT
BEGIN:STANDARD
TZOFFSETFROM:+0200
TZOFFSETTO:+0100
TZNAME:CET
DTSTART:20261025T010000
END:STANDARD
BEGIN:DAYLIGHT
TZOFFSETFROM:+0100
TZOFFSETTO:+0200
TZNAME:CEST
DTSTART:20270328T010000
END:DAYLIGHT
BEGIN:STANDARD
TZOFFSETFROM:+0200
TZOFFSETTO:+0100
TZNAME:CET
DTSTART:20271031T010000
END:STANDARD
END:VTIMEZONE
BEGIN:VEVENT
DTSTART;TZID=Europe/Paris:20260530T083000
DTEND;TZID=Europe/Paris:20260530T173000
DTSTAMP:20260424T200315
CREATED:20240730T131755Z
LAST-MODIFIED:20260205T092634Z
UID:2737-1780129800-1780162200@croixblanche44.org
SUMMARY:FC PSE
DESCRIPTION:Programme\nLe programme est défini annuellement par une instruction ministérielle. Pour l’année 2026\, il comporte les thématiques suivantes : \n\nL’oxygénothérapie par inhalation + utilisation d’une bouteille d’oxygène\nMalaises et aggravation de maladie\nAide à la marche\, déplacement d’une victime\nAdopter les règles de gestes et postures ou de manutention\nMises en situation
URL:https://croixblanche44.org/event/fc-pse-3/
LOCATION:Locaux du CD\, 15 Ter\, Boulevard Jean Moulin\, Nantes\, 44100\, France
CATEGORIES:Formations,PSE
ATTACH;FMTTYPE=image/jpeg:https://croixblanche44.org/wp-content/uploads/2022/04/c-PSE1-FC.jpg
ORGANIZER;CN="Croix Blanche":MAILTO:contact@croixblanche44.org
END:VEVENT
END:VCALENDAR