BEGIN:VCALENDAR
VERSION:2.0
PRODID:-//Croix Blanche Loire Atlantique - ECPv6.15.13//NONSGML v1.0//EN
CALSCALE:GREGORIAN
METHOD:PUBLISH
X-WR-CALNAME:Croix Blanche Loire Atlantique
X-ORIGINAL-URL:https://croixblanche44.org
X-WR-CALDESC:Évènements pour Croix Blanche Loire Atlantique
REFRESH-INTERVAL;VALUE=DURATION:PT1H
X-Robots-Tag:noindex
X-PUBLISHED-TTL:PT1H
BEGIN:VTIMEZONE
TZID:Europe/Paris
BEGIN:DAYLIGHT
TZOFFSETFROM:+0100
TZOFFSETTO:+0200
TZNAME:CEST
DTSTART:20210328T010000
END:DAYLIGHT
BEGIN:STANDARD
TZOFFSETFROM:+0200
TZOFFSETTO:+0100
TZNAME:CET
DTSTART:20211031T010000
END:STANDARD
BEGIN:DAYLIGHT
TZOFFSETFROM:+0100
TZOFFSETTO:+0200
TZNAME:CEST
DTSTART:20220327T010000
END:DAYLIGHT
BEGIN:STANDARD
TZOFFSETFROM:+0200
TZOFFSETTO:+0100
TZNAME:CET
DTSTART:20221030T010000
END:STANDARD
BEGIN:DAYLIGHT
TZOFFSETFROM:+0100
TZOFFSETTO:+0200
TZNAME:CEST
DTSTART:20230326T010000
END:DAYLIGHT
BEGIN:STANDARD
TZOFFSETFROM:+0200
TZOFFSETTO:+0100
TZNAME:CET
DTSTART:20231029T010000
END:STANDARD
END:VTIMEZONE
BEGIN:VEVENT
DTSTART;TZID=Europe/Paris:20220308T080000
DTEND;TZID=Europe/Paris:20220308T080000
DTSTAMP:20260424T232505
CREATED:20220415T160439Z
LAST-MODIFIED:20220502T143456Z
UID:174-1646726400-1646726400@croixblanche44.org
SUMMARY:MAC SST
DESCRIPTION:Programme\nRetour d’expériences sur les actions menées en prévention et/ou secours \n\nConnaître les difficultés rencontrées lors des interventions du SST\nFaire un point sur les acquis des participants\n\nActualisation des compétences du SST \n\nMises à jour des compétences en matière de prévention ;\nEvolution des pratiques de secours (PREFAS) ;\nInformation.
URL:https://croixblanche44.org/event/mac-sst/
LOCATION:Locaux du CD\, 15 Ter\, Boulevard Jean Moulin\, Nantes\, 44100\, France
CATEGORIES:Formations,SST
ATTACH;FMTTYPE=image/jpeg:https://croixblanche44.org/wp-content/uploads/2022/04/c-SST-MAC.jpg
ORGANIZER;CN="Croix Blanche":MAILTO:contact@croixblanche44.org
END:VEVENT
BEGIN:VEVENT
DTSTART;TZID=Europe/Paris:20220316T080000
DTEND;TZID=Europe/Paris:20220316T080000
DTSTAMP:20260424T232505
CREATED:20220415T160355Z
LAST-MODIFIED:20220502T143506Z
UID:173-1647417600-1647417600@croixblanche44.org
SUMMARY:SST
DESCRIPTION:Programme\nContribuer à la prévention des risques professionnels dans l’entreprise : \n\nSituer son rôle de SST dans l’organisation de la prévention de l’entreprise\nCaractériser des risques professionnels dans une situation de travail\nParticiper à la maîtrise des risques professionnels par des actions de prévention\n\nIntervenir face à une situation d’accident du travail : \n\nSituer son rôle de SST dans l’organisation des secours dans l’entreprise ;\nProtéger de façon adaptée ;\nExaminer la victime ;\nGarantir une alerte favorisant l’arrivée de secours adaptés au plus près de la victime ;\nSecourir la victime de manière appropriée :\nLa victime saigne abondamment\,\nLa victime s’étouffe\,\nLa victime se plaint de malaise\,\nLa victime se plaint de brûlures\,\nLa victime se plaint d’une douleur empêchant certains mouvements\,\nLa victime se plaint d’une plaie qui ne saigne pas abondamment\,\nLa victime ne répond pas mais elle respire\,\nLa victime ne répond pas.
URL:https://croixblanche44.org/event/sst/
LOCATION:Locaux du CD\, 15 Ter\, Boulevard Jean Moulin\, Nantes\, 44100\, France
CATEGORIES:Formations,SST
ATTACH;FMTTYPE=image/jpeg:https://croixblanche44.org/wp-content/uploads/2022/04/c-SST.jpg
ORGANIZER;CN="Croix Blanche":MAILTO:contact@croixblanche44.org
END:VEVENT
END:VCALENDAR